BEGIN:VCALENDAR
VERSION:2.0
PRODID:-// - ECPv4.6.16//NONSGML v1.0//EN
CALSCALE:GREGORIAN
METHOD:PUBLISH
X-ORIGINAL-URL:https://www.nifat.com.au
X-WR-CALDESC:Events for 
BEGIN:VEVENT
DTSTART;VALUE=DATE:20180825
DTEND;VALUE=DATE:20180827
DTSTAMP:20180623T201910
CREATED:20170811T052542Z
LAST-MODIFIED:20180613T234728Z
UID:5274-1535155200-1535327999@www.nifat.com.au
SUMMARY:2018 National First Aid Trainers Conference
DESCRIPTION:\nScroll to the bottom of the page to purchase tickets. \nTicket Prices\nMembers must be logged in to receive member pricing \nEarly Bird 1 Nov 2017 – 31 May 2018\nMembers: $579.00\nNon-Members $659.00 \nStandard 1 June 2018 – 20 Aug 2018\nMembers: $679.00\nNon-Members $759.00 \nConference Accommodation\n$200.00 per room\, per night.\nIncludes full buffet breakfast for two\, served in Seasons Restaurant.\nAccommodation must be booked directly with the Hotel. Call 02 9518 2024.\nWhen booking please quote the conference name and date to receive the discounted accommodation rates.\nImportant Note: Only a limited number of rooms are available at the rate above\, to avoid disappointment please book early. This rate is only valid until 24/06/2018. When placing your booking please check the cancellation policy with the hotel as this may vary from standard terms due to the discounted room rate.  \n
URL:https://www.nifat.com.au/event/2018-national-first-aid-trainers-conference/
LOCATION:22 Levey Street\, Sydney\, NSW\, 2205\, Australia
CATEGORIES:Conference,Upcoming Event
END:VEVENT
END:VCALENDAR